BEGIN:VCALENDAR
VERSION:2.0
PRODID:-//Take Me Out Trips - ECPv6.15.18//NONSGML v1.0//EN
CALSCALE:GREGORIAN
METHOD:PUBLISH
X-WR-CALNAME:Take Me Out Trips
X-ORIGINAL-URL:https://takemeouttrips.co.uk
X-WR-CALDESC:Events for Take Me Out Trips
REFRESH-INTERVAL;VALUE=DURATION:PT1H
X-Robots-Tag:noindex
X-PUBLISHED-TTL:PT1H
BEGIN:VTIMEZONE
TZID:Europe/London
BEGIN:DAYLIGHT
TZOFFSETFROM:+0000
TZOFFSETTO:+0100
TZNAME:BST
DTSTART:20250330T010000
END:DAYLIGHT
BEGIN:STANDARD
TZOFFSETFROM:+0100
TZOFFSETTO:+0000
TZNAME:GMT
DTSTART:20251026T010000
END:STANDARD
BEGIN:DAYLIGHT
TZOFFSETFROM:+0000
TZOFFSETTO:+0100
TZNAME:BST
DTSTART:20260329T010000
END:DAYLIGHT
BEGIN:STANDARD
TZOFFSETFROM:+0100
TZOFFSETTO:+0000
TZNAME:GMT
DTSTART:20261025T010000
END:STANDARD
BEGIN:DAYLIGHT
TZOFFSETFROM:+0000
TZOFFSETTO:+0100
TZNAME:BST
DTSTART:20270328T010000
END:DAYLIGHT
BEGIN:STANDARD
TZOFFSETFROM:+0100
TZOFFSETTO:+0000
TZNAME:GMT
DTSTART:20271031T010000
END:STANDARD
END:VTIMEZONE
BEGIN:VEVENT
DTSTART;TZID=Europe/London:20261104T193000
DTEND;TZID=Europe/London:20261104T221500
DTSTAMP:20260419T174210
CREATED:20260125T181525Z
LAST-MODIFIED:20260329T101903Z
UID:10000276-1793820600-1793830500@takemeouttrips.co.uk
SUMMARY:Sinatra The Musical - Maldon Route
DESCRIPTION:It is New Year’s Eve\, 1942\, and a skinny 27-year-old Italian-American singer is about to step onto the stage of New York City’s Paramount Theatre and give a performance that will change music history. But as Frank Sinatra’s voice captures a nation\, his heart is torn between his wife\, Nancy\, and movie goddess\, Ava Gardner. When scandal and a hostile press send his career into a tailspin\, the young crooner fights back and stages the greatest comeback in show business history. \nFeaturing over twenty classic hits\, including “That’s Life“\, “One For My Baby“\, “The Best Is Yet to Come” and “I‘ve Got the World on a String“\, Sinatra: The Musical is the most revealing portrait ever told about the legendary singer. \n\n\nSinatra The Musical is heading to the West End\, brought to the stage by a world class creative team including two-time Tony Award-winning writer Joe DiPietro (What’s New Pussycat? and Memphis) and Olivier Award-winning and three-time Tony Award-winning director & choreographer\, Kathleen Marshall (Anything Goes and Top Hat). \n\n			\n				\n				\n				\n				\n				Seat location: Dress Circle Rows E & F \n			\n				\n				\n				\n				\n				Recommended for ages 13+.This performance contains strong language\, violence\, scenes of a sexual nature and reference to themes including racism\, death\, abortion\, and suicide. Haze is also used and there are occasional loud noises including gunshots. \n			\n				\n				\n				\n				\n				Estimated timetable below. The final timetable will be notified by email in the week before the trip:15:00 – Great Totham 1: Mill Road (nr Eaton Way junction CM9 8DH)15:05 – Wickham Bishops: The Street (outside Olio’s restaurant\, CM8 3NN)15:10 – Great Totham 2: “Barn Church” bus stop (Prince of Wales Road CM9 8PU)15:15 – Broad Street Green: “Scylla Close” bus stop (Broad Street Green Road CM9 8PD)15:20 – Heybridge: “Oak Road” bus stop (Colchester Road CM9 4AN)15:30 – Maldon 1: “St Peter’s Hospital bus stop (Spital Road CM9 6EB)15:35 – Maldon 2: “Lambourne Grove” bus stop (Fambridge Road CM9 6BJ)15:40 – Maldon 3: “Morrisons Entrance” bus stop (Wycke Hill Business Park\, CM9 6GG)15:50 – Danbury: “Eves Corner” bus stop (Main Road\, CM3 4NQ)15:55 – Bicknacre: “Brewers Arms” bus stop (Main Road CM3 4HD)16:05 – South Woodham Ferrers 2: “Medical Centre” bus stop (Burnham Road CM3 5QP)16:10 – South Woodham Ferrers 1: “Asda Store” bus stop (Merchant Street CM3 5BF) \nWe expect to arrive between 17:30-18:00Depart approximately 22:30 \n			\n				\n				\n				\n				\n				IMPORTANT: This event page has been set up only for waiting list subscription in order to formally register interest in tickets for this show\, when they are released. 1 March 2026 is NOT the actual date being offered for this trip and the trip price is not yet known. \nWe will not know the date for the Maldon Route or the price for places on this trip until tickets go on sale and we have confirmed our reservation. As soon as we know the actual date and price we will update this event page accordingly and you will receive a notification email\, if you sign up following the instruction below. \nIf you would like a Maldon Route pick up to see Sinatra The Musical in 2026\, please use the “NOTIFY ME” button below to add your details to the pre-sale registration list to be notified by email when our actual trip date and price are confirmed and booking opens.
URL:https://takemeouttrips.co.uk/event/sinatra-2026x1-me-sn/
LOCATION:Aldwych Theatre\, 49 Aldwych\, London\, WC2B 4DF\, United Kingdom
CATEGORIES:Maldon Route,Musical,Wait List
ATTACH;FMTTYPE=image/png:https://takemeouttrips.co.uk/wp-content/uploads/2026/01/sinatra-image1600-900f.png
END:VEVENT
BEGIN:VEVENT
DTSTART;TZID=Europe/London:20261110T193000
DTEND;TZID=Europe/London:20261110T220000
DTSTAMP:20260419T174210
CREATED:20260304T110300Z
LAST-MODIFIED:20260329T163618Z
UID:10000319-1794339000-1794348000@takemeouttrips.co.uk
SUMMARY:Burlesque The Musical - Dengie Route + Maldon Town
DESCRIPTION:View Trailer\n			\n				\n				\n				\n				\n				Burlesque invites you to a club like no other: a hidden world beneath the city lights where sequins sparkle\, seduction shimmers\, and a life can change in the flick of a feather boa. When Ali heads to New York City in search of her mother\, she finds herself drawn into a dazzling underground world of music and dance that will change her life forever. \nA scintillating journey of self-discovery that absolutely sizzles with songs by Christina Aguilera\, Sia and Diane Warren\, alongside additional songs by Todrick Hall and Jess Folley. \nLife’s not fair. It’s fabulous. \n			\n				\n				\n				\n				\n				Seat location: Stalls N & PThese seats are priced at £89.90 / £127.90 each\, without coach\, when purchased individually through the theatre’s box office. \n			\n				\n				\n				\n				\n				Recommended for ages 12+. \n			\n				\n				\n				\n				\n				Estimated pick up timetable below. The final timetable will be notified by email in the week before the trip.14:45 – Maldon 1: “St Peter’s Hospital bus stop (Spital Road CM9 6EB)14:50 – Maldon 2: “Lambourne Grove” bus stop (Fambridge Road CM9 6BJ)14:55 – Maldon 3: “Morrisons (entrance)” bus stop (Wycke Hill Business Park\, CM9 6GG)15:10 – Latchingdon: “School” bus stop (The Street CM3 6JS)15:15 – Mayland: “The Drive” bus stop (Steeple Road CM3 6BB)15:25 – Southminster: “High Street” bus stop (High Street CM0 7AA)15:30 – Burnham 3: “Burnham Cemetery” bus stop (Southminster Road CM0 8RT)15:30 – Burnham 2: “Marsh Road” bus stop (Church Road CM0 8DA)15:35 – Burnham 1: “Endeavour Way” bus stop (Maldon Road CM0 8NR)15:40 – Althorne: “Fords Corner” bus stop (Burnham Road CM3 6DP)15:50 – North Fambridge: The Ferry Boat Inn (Ferry Road CM3 6LR)16:05 – South Woodham Ferrers 1: “Asda Store” bus stop (Merchant Street CM3 5BF)16:10 – South Woodham Ferrers 2: “Medical Centre” bus stop (Burnham Road CM3 5QP) \nArrival between 17:30-18:00\, traffic permittingDeparture between 22:00-22:30 \n			\n				\n				\n				\n				\n				If you would like tickets for this event but it is currently showing that tickets are not yet on sale\, please use the “NOTIFY ME” button below to add your details to the pre-sale registration list to be notified by email when booking opens. \nIf you would like tickets for this event but it is currently showing as SOLD OUT please let us know by using the “NOTIFY ME” button below to add your details to the wait list. We will then contact you if we are able to obtain extra tickets for you to book.
URL:https://takemeouttrips.co.uk/event/burlesque-261110-be-bq/
LOCATION:Arts Theatre Marble Arch\, Marble Arch\, London\, W1H 7DX\, United Kingdom
CATEGORIES:Bespoke Route,Dengie Route,Maldon Route,Musical,Ticket Only
ATTACH;FMTTYPE=image/png:https://takemeouttrips.co.uk/wp-content/uploads/2026/03/burlesque-image1600-900f.png
END:VEVENT
END:VCALENDAR