BEGIN:VCALENDAR
VERSION:2.0
PRODID:-//Take Me Out Trips - ECPv6.15.18//NONSGML v1.0//EN
CALSCALE:GREGORIAN
METHOD:PUBLISH
X-ORIGINAL-URL:https://takemeouttrips.co.uk
X-WR-CALDESC:Events for Take Me Out Trips
REFRESH-INTERVAL;VALUE=DURATION:PT1H
X-Robots-Tag:noindex
X-PUBLISHED-TTL:PT1H
BEGIN:VTIMEZONE
TZID:Europe/London
BEGIN:DAYLIGHT
TZOFFSETFROM:+0000
TZOFFSETTO:+0100
TZNAME:BST
DTSTART:20250330T010000
END:DAYLIGHT
BEGIN:STANDARD
TZOFFSETFROM:+0100
TZOFFSETTO:+0000
TZNAME:GMT
DTSTART:20251026T010000
END:STANDARD
BEGIN:DAYLIGHT
TZOFFSETFROM:+0000
TZOFFSETTO:+0100
TZNAME:BST
DTSTART:20260329T010000
END:DAYLIGHT
BEGIN:STANDARD
TZOFFSETFROM:+0100
TZOFFSETTO:+0000
TZNAME:GMT
DTSTART:20261025T010000
END:STANDARD
BEGIN:DAYLIGHT
TZOFFSETFROM:+0000
TZOFFSETTO:+0100
TZNAME:BST
DTSTART:20270328T010000
END:DAYLIGHT
BEGIN:STANDARD
TZOFFSETFROM:+0100
TZOFFSETTO:+0000
TZNAME:GMT
DTSTART:20271031T010000
END:STANDARD
END:VTIMEZONE
BEGIN:VEVENT
DTSTART;TZID=Europe/London:20260508T193000
DTEND;TZID=Europe/London:20260508T220000
DTSTAMP:20260420T030659
CREATED:20251222T185459Z
LAST-MODIFIED:20260410T081252Z
UID:10000254-1778268600-1778277600@takemeouttrips.co.uk
SUMMARY:Strictly: Professionals UK Tour 2026 - Maldon Route [260508-ME-SP]
DESCRIPTION:Strictly The Professionals returns — bigger\, bolder\, and more breathtaking than ever.\nTake 11 world-class professional dancers from the hit TV series Strictly Come Dancing\, a sensational live band\, and powerhouse vocalists. Add show-stopping choreography\, dazzling costumes\, and a stunning set. Finish with a killer soundtrack – and suddenly every move\, every beat\, every shimmer of sequins pulls you into the heart of the action\, creating the ultimate night out. \nStrictly The Professionals is a high-energy production which takes the glitz and glamour of BBC One’s hugely-popular Strictly Come Dancing to dazzling new heights. With years of experience and undeniable chemistry\, these fan-favourite professional dancers\, all from the latest series\, will light up the stage as they perform in the UK’s most iconic venue. \nStarring: Julian Caillon\, Vito Coppola\, Neil Jones\, Gorka Márquez\, Luba Mushtuk\, Lauren Oakley\, Jowita Przystał\, Michelle Tsiakkas\, Alexis Warr\, Kai Widdrington\, and Nancy Xu.\n			\n				\n				\n				\n				\n				Seat location: Stalls Rows R\, T & V \n			\n				\n				\n				\n				\n				Under 4s not admitted.\n			\n				\n				\n				\n				\n				Estimated pick up timetable below. The final timetable will be notified by email during the week before the trip.15:00 – Great Totham North: Mill Road (nr Eaton Way junction CM9 8DH)15:05 – Wickham Bishops: The Street (outside Olio’s restaurant CM8 3NN)15:10 – Great Totham South: “Barn Church” bus stop (Prince of Wales Road CM9 8PU)15:15 – Broad Street Green: “Scylla Close” bus stop (Broad Street Green Road CM9 8PD)15:20 – Heybridge: “Oak Road” bus stop (Colchester Road CM9 4AN)15:30 – Maldon 1: “St Peter’s Hospital bus stop (Spital Road CM9 6EB)15:35 – Maldon 2: “Lambourne Grove” bus stop (Fambridge Road CM9 6BJ)15:40 – Maldon 3: “Morrisons (entrance)” bus stop (Wycke Hill Business Park\, CM9 6GG)15:50 – Danbury: “Eves Corner” bus stop (Main Road CM3 4NQ)15:55 – Bicknacre: “Brewers Arms” bus stop (Main Road CM3 4HD)16:00 – South Woodham Ferrers 2: “Medical Centre” bus stop (Burnham Road CM3 5QP)16:05 – South Woodham Ferrers 1: “Asda Store” bus stop (Merchant Street CM3 5BF) \nWe expect to arrive in London between 17:30-18:00Departure: Approximately 22:30  \n			\n				\n				\n				\n				\n				If you would like tickets for this event but it is currently showing that tickets are not yet on sale\, please use the “NOTIFY ME” button below to add your details to the pre-sale registration list to be notified by email when booking opens. \nIf you would like tickets for this event but it is currently showing as SOLD OUT please let us know by using the “NOTIFY ME” button below to add your details to the wait list. We will then contact you if we are able to obtain extra tickets for you to book.
URL:https://takemeouttrips.co.uk/event/strictly-260508-me-sp/
LOCATION:London Palladium\, 8 Argyll Street\, London\, W1F 7TF\, United Kingdom
CATEGORIES:Dance,Maldon Route,Variety
ATTACH;FMTTYPE=image/png:https://takemeouttrips.co.uk/wp-content/uploads/2025/12/strictly-image1600-900f.png
END:VEVENT
BEGIN:VEVENT
DTSTART;TZID=Europe/London:20260510T193000
DTEND;TZID=Europe/London:20260510T220000
DTSTAMP:20260420T030659
CREATED:20251222T142842Z
LAST-MODIFIED:20260409T145038Z
UID:10000253-1778441400-1778450400@takemeouttrips.co.uk
SUMMARY:Strictly: Professionals UK Tour 2026 - Dengie Route
DESCRIPTION:Strictly The Professionals returns — bigger\, bolder\, and more breathtaking than ever.Take 11 world-class professional dancers from the hit TV series Strictly Come Dancing\, a sensational live band\, and powerhouse vocalists. Add show-stopping choreography\, dazzling costumes\, and a stunning set. Finish with a killer soundtrack – and suddenly every move\, every beat\, every shimmer of sequins pulls you into the heart of the action\, creating the ultimate night out. \nStrictly The Professionals is a high-energy production which takes the glitz and glamour of BBC One’s hugely-popular Strictly Come Dancing to dazzling new heights. With years of experience and undeniable chemistry\, these fan-favourite professional dancers\, all from the latest series\, will light up the stage as they perform in the UK’s most iconic venue. \nStarring: Julian Caillon\, Vito Coppola\, Neil Jones\, Gorka Márquez\, Luba Mushtuk\, Lauren Oakley\, Jowita Przystał\, Michelle Tsiakkas\, Alexis Warr\, Kai Widdrington\, and Nancy Xu. \n			\n				\n				\n				\n				\n				Seat location: Stalls Rows R\, T & VThese seats are priced at £57.50 each when purchased individually through the theatre’s box office. \n			\n				\n				\n				\n				\n				Under 4s not admitted. \n			\n				\n				\n				\n				\n				Estimated pick up timetable below. The final timetable will be notified by email during the week before the trip.15:00 – Latchingdon: “School” bus stop (The Street CM3 6JS)15:05 – Mayland: “The Drive” bus stop (Steeple Road CM3 6BB)15:15 – Southminster: “High Street” bus stop (High Street CM0 7AA)15:20 – Burnham 3: “Burnham Cemetery” bus stop (Southminster Road CM0 8RT)15:20 – Burnham 2: “Marsh Road” bus stop (Church Road CM0 8DA)15:25 – Burnham 1: “Endeavour Way” bus stop (Maldon Road CM0 8NR)15:30 – Althorne: “Fords Corner” bus stop (Burnham Road CM3 6DP)15:40 – North Fambridge: The Ferry Boat Inn (Ferry Road CM3 6LR)15:55 – South Woodham Ferrers 1: “Asda Store” bus stop (Merchant Street CM3 5BF)16:00 – South Woodham Ferrers 2: “Medical Centre” bus stop (Burnham Road CM3 5QP) \nWe expect to arrive between 17:30-18:00.Departure between 22:00 and 22:30. \n			\n				\n				\n				\n				\n				If you would like tickets for this event but it is currently showing that tickets are not yet on sale\, please use the “NOTIFY ME” button below to add your details to the pre-sale registration list to be notified by email when booking opens. \nIf you would like tickets for this event but it is currently showing as SOLD OUT please let us know by using the “NOTIFY ME” button below to add your details to the wait list. We will then contact you if we are able to obtain extra tickets for you to book.
URL:https://takemeouttrips.co.uk/event/strictly-260510-de-sp/
LOCATION:London Palladium\, 8 Argyll Street\, London\, W1F 7TF\, United Kingdom
CATEGORIES:Dance,Dengie Route,Variety
ATTACH;FMTTYPE=image/png:https://takemeouttrips.co.uk/wp-content/uploads/2025/12/strictly-image1600-900f.png
END:VEVENT
BEGIN:VEVENT
DTSTART;TZID=Europe/London:20260527T193000
DTEND;TZID=Europe/London:20260527T215000
DTSTAMP:20260420T030659
CREATED:20260225T184713Z
LAST-MODIFIED:20260410T081720Z
UID:10000318-1779910200-1779918600@takemeouttrips.co.uk
SUMMARY:Kinky Boots - Dengie Route - [260527-DE-KB]
DESCRIPTION:View Trailer\n			\n				\n				\n				\n				\n				\nThe multi-award-winning musical KINKY BOOTS is strutting its way to London in a joyous\, brand-new production starring Strictly Come Dancing’s Johannes Radebe and multi-platinum-selling recording artist Matt Cardle.  \n\n\nWhen Charlie Price inherits his family’s failing shoe factory\, saving the company – and his love life – feel like an impossibly tall order. Until\, that is\, he meets Lola\, the sparkling\, larger-than-life drag queen with the unlikeliest of answers. Can they work together to reboot the business and save the day? Perhaps they just need to help each other – and everyone around them – to stand a little taller… \n\n			\n				\n				\n				\n				\n				Seat location: Circle Rows [to be confirmed]These seats are priced at £85 each\, without coach\, when purchased individually through the theatre’s box office. \n			\n				\n				\n				\n				\n				Recommended for ages 8+. Under 5s not permitted.This performance contains some strong language\, strobe lighting\, flashing lights\, smoke and haze. \n			\n				\n				\n				\n				\n				Estimated pick up timetable below. The final timetable will be notified by email during the week before the trip.15:00 – Latchingdon: “School” bus stop (The Street CM3 6JS)15:05 – Mayland: “The Drive” bus stop (Steeple Road CM3 6BB)15:15 – Southminster: “High Street” bus stop (High Street CM0 7AA)15:20 – Burnham 3: “Burnham Cemetery” bus stop (Southminster Road CM0 8RT)15:20 – Burnham 2: “Marsh Road” bus stop (Church Road CM0 8DA)15:25 – Burnham 1: “Endeavour Way” bus stop (Maldon Road CM0 8NR)15:30 – Althorne: “Fords Corner” bus stop (Burnham Road CM3 6DP)15:40 – North Fambridge: The Ferry Boat Inn (Ferry Road CM3 6LR)15:55 – South Woodham Ferrers 1: “Asda Store” bus stop (Merchant Street CM3 5BF)16:00 – South Woodham Ferrers 2: “Medical Centre” bus stop (Burnham Road CM3 5QP) \nArrival between 17:30-18:00\, traffic permittingDeparture between 22:00-22:30 \n			\n				\n				\n				\n				\n				If you would like tickets for this event but it is currently showing that tickets are not yet on sale\, please use the “NOTIFY ME” button below to add your details to the pre-sale registration list to be notified by email when booking opens. \nIf you would like tickets for this event but it is currently showing as SOLD OUT please let us know by using the “NOTIFY ME” button below to add your details to the wait list. We will then contact you if we are able to obtain extra tickets for you to book.
URL:https://takemeouttrips.co.uk/event/kinky-boots-260527-de-kb/
LOCATION:London Coliseum\, St Martin's Lane\, London\, WC2N 4ES\, United Kingdom
CATEGORIES:Dengie Route,Musical,Ticket Only
ATTACH;FMTTYPE=image/png:https://takemeouttrips.co.uk/wp-content/uploads/2026/02/kinky-boots-image1600-900f.png
END:VEVENT
END:VCALENDAR