BEGIN:VCALENDAR
VERSION:2.0
PRODID:-//Take Me Out Trips - ECPv6.15.18//NONSGML v1.0//EN
CALSCALE:GREGORIAN
METHOD:PUBLISH
X-WR-CALNAME:Take Me Out Trips
X-ORIGINAL-URL:https://takemeouttrips.co.uk
X-WR-CALDESC:Events for Take Me Out Trips
REFRESH-INTERVAL;VALUE=DURATION:PT1H
X-Robots-Tag:noindex
X-PUBLISHED-TTL:PT1H
BEGIN:VTIMEZONE
TZID:Europe/London
BEGIN:DAYLIGHT
TZOFFSETFROM:+0000
TZOFFSETTO:+0100
TZNAME:BST
DTSTART:20250330T010000
END:DAYLIGHT
BEGIN:STANDARD
TZOFFSETFROM:+0100
TZOFFSETTO:+0000
TZNAME:GMT
DTSTART:20251026T010000
END:STANDARD
BEGIN:DAYLIGHT
TZOFFSETFROM:+0000
TZOFFSETTO:+0100
TZNAME:BST
DTSTART:20260329T010000
END:DAYLIGHT
BEGIN:STANDARD
TZOFFSETFROM:+0100
TZOFFSETTO:+0000
TZNAME:GMT
DTSTART:20261025T010000
END:STANDARD
BEGIN:DAYLIGHT
TZOFFSETFROM:+0000
TZOFFSETTO:+0100
TZNAME:BST
DTSTART:20270328T010000
END:DAYLIGHT
BEGIN:STANDARD
TZOFFSETFROM:+0100
TZOFFSETTO:+0000
TZNAME:GMT
DTSTART:20271031T010000
END:STANDARD
END:VTIMEZONE
BEGIN:VEVENT
DTSTART;TZID=Europe/London:20260508T193000
DTEND;TZID=Europe/London:20260508T220000
DTSTAMP:20260420T065232
CREATED:20251222T185459Z
LAST-MODIFIED:20260410T081252Z
UID:10000254-1778268600-1778277600@takemeouttrips.co.uk
SUMMARY:Strictly: Professionals UK Tour 2026 - Maldon Route [260508-ME-SP]
DESCRIPTION:Strictly The Professionals returns — bigger\, bolder\, and more breathtaking than ever.\nTake 11 world-class professional dancers from the hit TV series Strictly Come Dancing\, a sensational live band\, and powerhouse vocalists. Add show-stopping choreography\, dazzling costumes\, and a stunning set. Finish with a killer soundtrack – and suddenly every move\, every beat\, every shimmer of sequins pulls you into the heart of the action\, creating the ultimate night out. \nStrictly The Professionals is a high-energy production which takes the glitz and glamour of BBC One’s hugely-popular Strictly Come Dancing to dazzling new heights. With years of experience and undeniable chemistry\, these fan-favourite professional dancers\, all from the latest series\, will light up the stage as they perform in the UK’s most iconic venue. \nStarring: Julian Caillon\, Vito Coppola\, Neil Jones\, Gorka Márquez\, Luba Mushtuk\, Lauren Oakley\, Jowita Przystał\, Michelle Tsiakkas\, Alexis Warr\, Kai Widdrington\, and Nancy Xu.\n			\n				\n				\n				\n				\n				Seat location: Stalls Rows R\, T & V \n			\n				\n				\n				\n				\n				Under 4s not admitted.\n			\n				\n				\n				\n				\n				Estimated pick up timetable below. The final timetable will be notified by email during the week before the trip.15:00 – Great Totham North: Mill Road (nr Eaton Way junction CM9 8DH)15:05 – Wickham Bishops: The Street (outside Olio’s restaurant CM8 3NN)15:10 – Great Totham South: “Barn Church” bus stop (Prince of Wales Road CM9 8PU)15:15 – Broad Street Green: “Scylla Close” bus stop (Broad Street Green Road CM9 8PD)15:20 – Heybridge: “Oak Road” bus stop (Colchester Road CM9 4AN)15:30 – Maldon 1: “St Peter’s Hospital bus stop (Spital Road CM9 6EB)15:35 – Maldon 2: “Lambourne Grove” bus stop (Fambridge Road CM9 6BJ)15:40 – Maldon 3: “Morrisons (entrance)” bus stop (Wycke Hill Business Park\, CM9 6GG)15:50 – Danbury: “Eves Corner” bus stop (Main Road CM3 4NQ)15:55 – Bicknacre: “Brewers Arms” bus stop (Main Road CM3 4HD)16:00 – South Woodham Ferrers 2: “Medical Centre” bus stop (Burnham Road CM3 5QP)16:05 – South Woodham Ferrers 1: “Asda Store” bus stop (Merchant Street CM3 5BF) \nWe expect to arrive in London between 17:30-18:00Departure: Approximately 22:30  \n			\n				\n				\n				\n				\n				If you would like tickets for this event but it is currently showing that tickets are not yet on sale\, please use the “NOTIFY ME” button below to add your details to the pre-sale registration list to be notified by email when booking opens. \nIf you would like tickets for this event but it is currently showing as SOLD OUT please let us know by using the “NOTIFY ME” button below to add your details to the wait list. We will then contact you if we are able to obtain extra tickets for you to book.
URL:https://takemeouttrips.co.uk/event/strictly-260508-me-sp/
LOCATION:London Palladium\, 8 Argyll Street\, London\, W1F 7TF\, United Kingdom
CATEGORIES:Dance,Maldon Route,Variety
ATTACH;FMTTYPE=image/png:https://takemeouttrips.co.uk/wp-content/uploads/2025/12/strictly-image1600-900f.png
END:VEVENT
END:VCALENDAR