BEGIN:VCALENDAR
VERSION:2.0
PRODID:-//Take Me Out Trips - ECPv6.15.20//NONSGML v1.0//EN
CALSCALE:GREGORIAN
METHOD:PUBLISH
X-WR-CALNAME:Take Me Out Trips
X-ORIGINAL-URL:https://takemeouttrips.co.uk
X-WR-CALDESC:Events for Take Me Out Trips
REFRESH-INTERVAL;VALUE=DURATION:PT1H
X-Robots-Tag:noindex
X-PUBLISHED-TTL:PT1H
BEGIN:VTIMEZONE
TZID:Europe/London
BEGIN:DAYLIGHT
TZOFFSETFROM:+0000
TZOFFSETTO:+0100
TZNAME:BST
DTSTART:20260329T010000
END:DAYLIGHT
BEGIN:STANDARD
TZOFFSETFROM:+0100
TZOFFSETTO:+0000
TZNAME:GMT
DTSTART:20261025T010000
END:STANDARD
BEGIN:DAYLIGHT
TZOFFSETFROM:+0000
TZOFFSETTO:+0100
TZNAME:BST
DTSTART:20270328T010000
END:DAYLIGHT
BEGIN:STANDARD
TZOFFSETFROM:+0100
TZOFFSETTO:+0000
TZNAME:GMT
DTSTART:20271031T010000
END:STANDARD
BEGIN:DAYLIGHT
TZOFFSETFROM:+0000
TZOFFSETTO:+0100
TZNAME:BST
DTSTART:20280326T010000
END:DAYLIGHT
BEGIN:STANDARD
TZOFFSETFROM:+0100
TZOFFSETTO:+0000
TZNAME:GMT
DTSTART:20281029T010000
END:STANDARD
END:VTIMEZONE
BEGIN:VEVENT
DTSTART;TZID=Europe/London:20270511T193000
DTEND;TZID=Europe/London:20270511T215000
DTSTAMP:20260423T011017
CREATED:20251203T185325Z
LAST-MODIFIED:20251203T191258Z
UID:10000244-1810063800-1810072200@takemeouttrips.co.uk
SUMMARY:Jersey Boys - Both Routes
DESCRIPTION:View Trailer\n			\n				\n				\n				\n				\n				The boys are back as the original Tony®-winning sensation returns for its 20th anniversary tour! \nThey were just four guys from Jersey\, until they sang their very first note. They had a sound nobody had ever heard… and the radio just couldn’t get enough of. But while their harmonies were perfect on stage\, off stage it was a very different story — a story that has made them an international sensation all over again. The show features all their hits including Sherry\, Big Girls Don’t Cry\, Walk Like A Man\, Can’t Take My Eyes Off You\, Beggin’\, Oh What a Night and more.  \nGo behind the music and inside the story of Frankie Valli and The Four Seasons in the true-life musical phenomenon\, Jersey Boys. From the streets of New Jersey to the Rock and Roll Hall of Fame\, this is the musical that’s too good to be true. \n			\n				\n				\n				\n				\n				Seat location: Stalls K L M W & XThese seats are priced at £49 each when purchased individually through the theatre’s box office. \n			\n				\n				\n				\n				\n				Recommended for ages 12+. Under 3s not admitted. \n			\n				\n				\n				\n				\n				Pick ups will be between 14:00 and 16:00 and will cover both routes\, dependent upon the locations of those that book  The final timetable and pickup route will be notified by email during the week before the trip. \nWe expect to arrive in Westcliff between 17:30-18:00.We expect to depart around 22:30
URL:https://takemeouttrips.co.uk/event/jersey-boys-270511-be-jb/
LOCATION:Cliffs Pavilion\, Station Road\, Southend\, Essex\, SS0 7RA\, United Kingdom
CATEGORIES:Bespoke Route,Dengie Route,Maldon Route,Musical
ATTACH;FMTTYPE=image/png:https://takemeouttrips.co.uk/wp-content/uploads/2025/12/jersey-boys-web-image500f.png
END:VEVENT
END:VCALENDAR