BEGIN:VCALENDAR
VERSION:2.0
PRODID:-//Take Me Out Trips - ECPv6.15.18//NONSGML v1.0//EN
CALSCALE:GREGORIAN
METHOD:PUBLISH
X-ORIGINAL-URL:https://takemeouttrips.co.uk
X-WR-CALDESC:Events for Take Me Out Trips
REFRESH-INTERVAL;VALUE=DURATION:PT1H
X-Robots-Tag:noindex
X-PUBLISHED-TTL:PT1H
BEGIN:VTIMEZONE
TZID:Europe/London
BEGIN:DAYLIGHT
TZOFFSETFROM:+0000
TZOFFSETTO:+0100
TZNAME:BST
DTSTART:20250330T010000
END:DAYLIGHT
BEGIN:STANDARD
TZOFFSETFROM:+0100
TZOFFSETTO:+0000
TZNAME:GMT
DTSTART:20251026T010000
END:STANDARD
BEGIN:DAYLIGHT
TZOFFSETFROM:+0000
TZOFFSETTO:+0100
TZNAME:BST
DTSTART:20260329T010000
END:DAYLIGHT
BEGIN:STANDARD
TZOFFSETFROM:+0100
TZOFFSETTO:+0000
TZNAME:GMT
DTSTART:20261025T010000
END:STANDARD
BEGIN:DAYLIGHT
TZOFFSETFROM:+0000
TZOFFSETTO:+0100
TZNAME:BST
DTSTART:20270328T010000
END:DAYLIGHT
BEGIN:STANDARD
TZOFFSETFROM:+0100
TZOFFSETTO:+0000
TZNAME:GMT
DTSTART:20271031T010000
END:STANDARD
END:VTIMEZONE
BEGIN:VEVENT
DTSTART;TZID=Europe/London:20260429T193000
DTEND;TZID=Europe/London:20260429T220000
DTSTAMP:20260420T063656
CREATED:20260328T081325Z
LAST-MODIFIED:20260407T062615Z
UID:10000324-1777491000-1777500000@takemeouttrips.co.uk
SUMMARY:Avenue Q - Dengie Route
DESCRIPTION:View Trailer\n			\n				\n				\n				\n				\n				PARENTAL ADVISORY – NOT FOR KIDS \nFresh out of college and searching for his purpose\, Princeton ends up in a shabby apartment on New York’s rundown Avenue Q. He quickly meets his new and colourful neighbours where together they navigate the life struggles of work\, love and paying the bills in their own hilarious way. \nIrreverent and irresistible\, Avenue Q is the mischievous and charming musical full of infectious songs and loveable characters that will leave you smiling for days. \nAfter two decades\, the three time Tony Award-winning musical Avenue Q returns to the West End in all its glory. With original Broadway director Jason Moore (Pitch Perfect\, Shrek the Musical) and original puppet designer Rick Lyon\, re-discover the fun\, fuzz and felt for a strictly limited season this spring. \n[Trailer from previous production.] \n			\n				\n				\n				\n				\n				Seat location: Stalls Rows G to MThese seats are valued by the venue at £85 each. \n			\n				\n				\n				\n				\n				Avenue Q contains strong language and adult themes and content throughout. Parental guidance is advised. \n			\n				\n				\n				\n				\n				Estimated pick up timetable below. The final timetable will be notified by email in the week before the trip.15:10 – Latchingdon: “School” bus stop (The Street CM3 6JS)15:15 – Mayland: “The Drive” bus stop (Steeple Road CM3 6BB)15:25 – Southminster: “High Street” bus stop (High Street CM0 7AA)15:30 – Burnham 3: “Burnham Cemetery” bus stop (Southminster Road CM0 8RT)15:30 – Burnham 2: “Marsh Road” bus stop (Church Road CM0 8DA)15:35 – Burnham 1: “Endeavour Way” bus stop (Maldon Road CM0 8NR)15:40 – Althorne: “Fords Corner” bus stop (Burnham Road CM3 6DP)15:50 – North Fambridge: The Ferry Boat Inn (Ferry Road CM3 6LR)16:05 – South Woodham Ferrers 1: “Asda Store” bus stop (Merchant Street CM3 5BF)16:10 – South Woodham Ferrers 2: “Medical Centre” bus stop (Burnham Road CM3 5QP) \nWe expect to arrive at approximately 17:30-18:00Departure approximately 22:30 \n			\n				\n				\n				\n				\n				If you would like tickets for this event but it is currently showing that tickets are not yet on sale\, please use the “NOTIFY ME” button below to add your details to the pre-sale registration list to be notified by email when booking opens. \nIf you would like tickets for this event but it is currently showing as SOLD OUT please let us know by using the “NOTIFY ME” button below to add your details to the wait list. We will then contact you if we are able to obtain extra tickets on this date for you to book.
URL:https://takemeouttrips.co.uk/event/avenue-q-260429-de-aq/
LOCATION:Shaftesbury Theatre\, 210 Shaftesbury Avenue\, London\, WC2H 8DP\, United Kingdom
CATEGORIES:Dengie Route,Musical
ATTACH;FMTTYPE=image/png:https://takemeouttrips.co.uk/wp-content/uploads/2026/01/avenue-q-web-image500f.png
END:VEVENT
END:VCALENDAR