BEGIN:VCALENDAR
VERSION:2.0
PRODID:-//Take Me Out Trips - ECPv6.15.18//NONSGML v1.0//EN
CALSCALE:GREGORIAN
METHOD:PUBLISH
X-ORIGINAL-URL:https://takemeouttrips.co.uk
X-WR-CALDESC:Events for Take Me Out Trips
REFRESH-INTERVAL;VALUE=DURATION:PT1H
X-Robots-Tag:noindex
X-PUBLISHED-TTL:PT1H
BEGIN:VTIMEZONE
TZID:Europe/London
BEGIN:DAYLIGHT
TZOFFSETFROM:+0000
TZOFFSETTO:+0100
TZNAME:BST
DTSTART:20250330T010000
END:DAYLIGHT
BEGIN:STANDARD
TZOFFSETFROM:+0100
TZOFFSETTO:+0000
TZNAME:GMT
DTSTART:20251026T010000
END:STANDARD
BEGIN:DAYLIGHT
TZOFFSETFROM:+0000
TZOFFSETTO:+0100
TZNAME:BST
DTSTART:20260329T010000
END:DAYLIGHT
BEGIN:STANDARD
TZOFFSETFROM:+0100
TZOFFSETTO:+0000
TZNAME:GMT
DTSTART:20261025T010000
END:STANDARD
BEGIN:DAYLIGHT
TZOFFSETFROM:+0000
TZOFFSETTO:+0100
TZNAME:BST
DTSTART:20270328T010000
END:DAYLIGHT
BEGIN:STANDARD
TZOFFSETFROM:+0100
TZOFFSETTO:+0000
TZNAME:GMT
DTSTART:20271031T010000
END:STANDARD
BEGIN:DAYLIGHT
TZOFFSETFROM:+0000
TZOFFSETTO:+0100
TZNAME:BST
DTSTART:20280326T010000
END:DAYLIGHT
BEGIN:STANDARD
TZOFFSETFROM:+0100
TZOFFSETTO:+0000
TZNAME:GMT
DTSTART:20281029T010000
END:STANDARD
END:VTIMEZONE
BEGIN:VEVENT
DTSTART;TZID=Europe/London:20261015T143000
DTEND;TZID=Europe/London:20261015T171500
DTSTAMP:20260420T053213
CREATED:20260210T161509Z
LAST-MODIFIED:20260410T125210Z
UID:10000303-1792074600-1792084500@takemeouttrips.co.uk
SUMMARY:Sinatra The Musical (matinee) - Maldon Route
DESCRIPTION:It is New Year’s Eve\, 1942\, and a skinny 27-year-old Italian-American singer is about to step onto the stage of New York City’s Paramount Theatre and give a performance that will change music history. But as Frank Sinatra’s voice captures a nation\, his heart is torn between his wife\, Nancy\, and movie goddess\, Ava Gardner. When scandal and a hostile press send his career into a tailspin\, the young crooner fights back and stages the greatest comeback in show business history. \nFeaturing over twenty classic hits\, including “That’s Life“\, “One For My Baby“\, “The Best Is Yet to Come” and “I‘ve Got the World on a String“\, Sinatra: The Musical is the most revealing portrait ever told about the legendary singer. \n\n\nSinatra The Musical is heading to the West End\, brought to the stage by a world class creative team including two-time Tony Award-winning writer Joe DiPietro (What’s New Pussycat? and Memphis) and Olivier Award-winning and three-time Tony Award-winning director & choreographer\, Kathleen Marshall (Anything Goes and Top Hat). \n\n			\n				\n				\n				\n				\n				Seat location: Dress Circle Row G \n			\n				\n				\n				\n				\n				Recommended for ages 13+.This performance contains strong language\, violence\, scenes of a sexual nature and reference to themes including racism\, death\, abortion\, and suicide. Haze is also used and there are occasional loud noises including gunshots. \n			\n				\n				\n				\n				\n				Estimated timetable below. The final timetable will be notified by email in the week before the trip:10:00 – Great Totham 1: Mill Road (nr Eaton Way junction CM9 8DH)10:05 – Wickham Bishops: The Street (outside Olio’s restaurant\, CM8 3NN)10:10 – Great Totham 2: “Barn Church” bus stop (Prince of Wales Road CM9 8PU)10:15 – Broad Street Green: “Scylla Close” bus stop (Broad Street Green Road CM9 8PD)10:20 – Heybridge: “Oak Road” bus stop (Colchester Road CM9 4AN)10:30 – Maldon 1: “St Peter’s Hospital bus stop (Spital Road CM9 6EB)10:35 – Maldon 2: “Lambourne Grove” bus stop (Fambridge Road CM9 6BJ)10:40 – Maldon 3: “Morrisons Entrance” bus stop (Wycke Hill Business Park\, CM9 6GG)10:50 – Danbury: “Eves Corner” bus stop (Main Road\, CM3 4NQ)10:55 – Bicknacre: “Brewers Arms” bus stop (Main Road CM3 4HD)11:05 – South Woodham Ferrers 2: “Medical Centre” bus stop (Burnham Road CM3 5QP)11:10 – South Woodham Ferrers 1: “Asda Store” bus stop (Merchant Street CM3 5BF) \nWe expect to arrive between 12:30-13:00Depart approximately 17:30 \n			\n				\n				\n				\n				\n				If you would like tickets for this event but it is currently showing that tickets are not yet on sale\, please use the “NOTIFY ME” button below to add your details to the pre-sale registration list to be notified by email when booking opens. \nIf you would like tickets for this event but it is currently showing as SOLD OUT please let us know by using the “NOTIFY ME” button below to add your details to the wait list. We will then contact you if we are able to obtain extra tickets for you to book.
URL:https://takemeouttrips.co.uk/event/sinatra-261015-mm-sn/
LOCATION:Aldwych Theatre\, 49 Aldwych\, London\, WC2B 4DF\, United Kingdom
CATEGORIES:Maldon Route,Musical
ATTACH;FMTTYPE=image/png:https://takemeouttrips.co.uk/wp-content/uploads/2026/01/sinatra-image1600-900f.png
END:VEVENT
BEGIN:VEVENT
DTSTART;TZID=Europe/London:20261201T143000
DTEND;TZID=Europe/London:20261201T170500
DTSTAMP:20260420T053214
CREATED:20260410T124713Z
LAST-MODIFIED:20260412T085046Z
UID:10000344-1796135400-1796144700@takemeouttrips.co.uk
SUMMARY:Operation Mincemeat - Dengie Route - [261201-DM-OM]
DESCRIPTION:Watch Trailer\n			\n				\n				\n				\n				\n				\nThe year is 1943 and we’re losing the war. Luckily\, we’re about to gamble all our futures on a stolen corpse.Singin’ in the Rain meets Strangers on a Train\, Noel Coward meets Noel Fielding\, Operation Mincemeat is the fast-paced\, hilarious and unbelievable true story of the twisted secret mission that won us World War II. The question is\, how did a well-dressed corpse wrong-foot Hitler? \n\n			\n				\n				\n				\n				\n				Seat location: Stalls Rows H J & K \n			\n				\n				\n				\n				\n				Recommended for ages 6+.This performance contains loud noises\, flashing lights\, smoke effects and lights that replicate a strobe effect feature in the production. \n			\n				\n				\n				\n				\n				Estimated pick up timetable below. The final timetable will be notified by email in the week before the trip. \n10:10 – Latchingdon: “School” bus stop (The Street CM3 6JS)10:15 – Mayland: “The Drive” bus stop (Steeple Road CM3 6BB)10:25 – Southminster: “High Street” bus stop (High Street CM0 7AA)10:30 – Burnham 3: “Burnham Cemetery” bus stop (Southminster Road CM0 8RT)10:30 – Burnham 2: “Marsh Road” bus stop (Church Road CM0 8DA)10:35 – Burnham 1: “Endeavour Way” bus stop (Maldon Road CM0 8NR)10:45 – Althorne: “Fords Corner” bus stop (Burnham Road CM3 6DP)10:55 – North Fambridge: The Ferry Boat Inn (Ferry Road CM3 6LR)11:05 – South Woodham Ferrers 1: “Asda Store” bus stop (Merchant Street CM3 5BF)11:10 – South Woodham Ferrers 2: “Medical Centre” bus stop (Burnham Road CM3 5QP) \nWe expect to arrive at approximately 12:30-13:00Departure approximately 17:30 \n			\n				\n				\n				\n				\n				If you would like tickets for this event but it is currently showing that tickets are not yet on sale\, please use the “NOTIFY ME” button below to add your details to the pre-sale registration list to be notified by email when booking opens. \nIf you would like tickets for this event but it is currently showing as SOLD OUT please let us know by using the “NOTIFY ME” button below to add your details to the wait list. We will then contact you if we are able to obtain extra tickets for you to book.
URL:https://takemeouttrips.co.uk/event/operation-mincemeat-261201-dm-om/
LOCATION:Fortune Theatre\, 29 Russell Street\, London\, WC2B 5HH\, United Kingdom
CATEGORIES:Dengie Route,Musical
ATTACH;FMTTYPE=image/png:https://takemeouttrips.co.uk/wp-content/uploads/2026/04/operation-mincemeat-image1600-900f.png
END:VEVENT
BEGIN:VEVENT
DTSTART;TZID=Europe/London:20261201T143000
DTEND;TZID=Europe/London:20261201T171500
DTSTAMP:20260420T053214
CREATED:20260202T162856Z
LAST-MODIFIED:20260329T102432Z
UID:10000290-1796135400-1796145300@takemeouttrips.co.uk
SUMMARY:Sinatra The Musical (matinee) - Dengie Route
DESCRIPTION:It is New Year’s Eve\, 1942\, and a skinny 27-year-old Italian-American singer is about to step onto the stage of New York City’s Paramount Theatre and give a performance that will change music history. But as Frank Sinatra’s voice captures a nation\, his heart is torn between his wife\, Nancy\, and movie goddess\, Ava Gardner. When scandal and a hostile press send his career into a tailspin\, the young crooner fights back and stages the greatest comeback in show business history. \nFeaturing over twenty classic hits\, including “That’s Life“\, “One For My Baby“\, “The Best Is Yet to Come” and “I‘ve Got the World on a String“\, Sinatra: The Musical is the most revealing portrait ever told about the legendary singer. \n\n\nSinatra The Musical is heading to the West End\, brought to the stage by a world class creative team including two-time Tony Award-winning writer Joe DiPietro (What’s New Pussycat? and Memphis) and Olivier Award-winning and three-time Tony Award-winning director & choreographer\, Kathleen Marshall (Anything Goes and Top Hat). \n\n			\n				\n				\n				\n				\n				Seat location: Stalls Row N \n			\n				\n				\n				\n				\n				Recommended for ages 13+.\nThis performance contains strong language\, violence\, scenes of a sexual nature and reference to themes including racism\, death\, abortion\, and suicide. Haze is also used and there are occasional loud noises including gunshots.\n			\n				\n				\n				\n				\n				Estimated pick up timetable below. The final timetable will be notified by email in the week before the trip. \n10:10 – Latchingdon: “School” bus stop (The Street CM3 6JS)10:15 – Mayland: “The Drive” bus stop (Steeple Road CM3 6BB)10:25 – Southminster: “High Street” bus stop (High Street CM0 7AA)10:30 – Burnham 3: “Burnham Cemetery” bus stop (Southminster Road CM0 8RT)10:30 – Burnham 2: “Marsh Road” bus stop (Church Road CM0 8DA)10:35 – Burnham 1: “Endeavour Way” bus stop (Maldon Road CM0 8NR)10:45 – Althorne: “Fords Corner” bus stop (Burnham Road CM3 6DP)10:55 – North Fambridge: The Ferry Boat Inn (Ferry Road CM3 6LR)11:05 – South Woodham Ferrers 1: “Asda Store” bus stop (Merchant Street CM3 5BF)11:10 – South Woodham Ferrers 2: “Medical Centre” bus stop (Burnham Road CM3 5QP) \nWe expect to arrive at approximately 12:30-13:00Departure approximately 17:30 \n			\n				\n				\n				\n				\n				IMPORTANT: This event page has been set up only for waiting list subscription in order to formally register interest in tickets for this show\, when they are released. 1 March 2026 is NOT the actual date being offered for this trip and the trip price is not yet known. \nWe will not know the date for the Dengie Route or the price for places on this trip until tickets go on sale and we have confirmed our reservation. As soon as we know the actual date and price we will update this event page accordingly and you will receive a notification email\, if you sign up following the instruction below. \nIf you would like a Dengie Route pick up to see Sinatra The Musical in 2026\, please use the “NOTIFY ME” button below to add your details to the pre-sale registration list to be notified by email when our actual trip date and price are confirmed and booking opens.
URL:https://takemeouttrips.co.uk/event/sinatra-261201-bm-sn/
LOCATION:Aldwych Theatre\, 49 Aldwych\, London\, WC2B 4DF\, United Kingdom
CATEGORIES:Bespoke Route,Dengie Route,Maldon Route,Musical,Wait List
ATTACH;FMTTYPE=image/png:https://takemeouttrips.co.uk/wp-content/uploads/2026/01/sinatra-image1600-900f.png
END:VEVENT
BEGIN:VEVENT
DTSTART;TZID=Europe/London:20261213T140000
DTEND;TZID=Europe/London:20261213T163000
DTSTAMP:20260420T053214
CREATED:20260102T125236Z
LAST-MODIFIED:20260117T135020Z
UID:10000259-1797170400-1797179400@takemeouttrips.co.uk
SUMMARY:Snow White Panto - Bespoke Route
DESCRIPTION:About The ShowMirror\, Mirror\, on the wall\, don’t miss the fairest pantomime of them all!Snow White and the Seven Dwarfs will be spectacularly brought to life with an abundance of comedy\, sensational song and dance numbers\, fabulous costumes and stunning scenery. Throw in a magical mirror\, the magnificent seven and plenty of audience participation and you have the perfect recipe to outwit the Wicked Queen and let love prevail in this glittering festive treat for all ages. \nSeeing a Panto is a Christmas MUST… (Oh no it isn’t)… OH YES IT IS! \n			\n				\n				\n				\n				\n				Seat location:– Front Centre Stalls Rows F & G– Front Side Stalls Rows E J & K \n			\n				\n				\n				\n				\n				Parental discretion is advised due to innuendo. \n			\n				\n				\n				\n				\n				Outline pickup timetable is below. The final timetable will be notified by email during the week before the trip. \n09:15 – Great Totham North: Mill Road (nr Eaton Way junction CM9 8DH)09:20 – Wickham Bishops: The Street (outside “The Bear” CM8 3NN)09:25 – Great Totham South: “Barn Church” bus stop (Prince of Wales Road CM9 8PU)09:30 – Broad Street Green: “Scylla Close” bus stop (Broad Street Green Road CM9 8PD)09:35 – Heybridge: “Oak Road” bus stop (Colchester Road CM9 4AN)09:45 – Maldon 1: “St Peter’s Hospital bus stop (Spital Road CM9 6EB)09:50 – Maldon 2: “Lambourne Grove” bus stop (Fambridge Road CM9 6BJ)10:00 – Latchingdon: “School” bus stop (The Street CM3 6JS)10:05 – Mayland: “The Drive” bus stop (Steeple Road CM3 6BB)10:15 – Southminster: “High Street” bus stop (High Street CM0 7AA)10:20 – Burnham 3: “Burnham Cemetery” bus stop (Southminster Road CM0 8RT)10:25 – Burnham 2: “Marsh Road” bus stop (Church Road CM0 8DA)10:25 – Burnham 1: “Endeavour Way” bus stop (Maldon Road CM0 8NR)10:30 – Althorne: “Fords Corner” bus stop (Burnham Road CM3 6DP)10:40 – North Fambridge: “Ferry Corner” bus stop (The Avenue CM3 6LZ)10:55 – South Woodham Ferrers 1: “Asda Store” bus stop (Merchant Street CM3 5BF)11:00 – South Woodham Ferrers 2: “Medical Centre” bus stop (Burnham Road CM3 5QP) \nWe expect to arrive between 12:00 -12:30.Departure approximately 17:00. \n			\n				\n				\n				\n				\n				If you would like tickets for this event but it is currently showing that tickets are not yet on sale\, please use the “NOTIFY ME” button below to add your details to the pre-sale registration list to be notified by email when booking opens. \nIf you would like tickets for this event but it is currently showing as SOLD OUT please let us know by using the “NOTIFY ME” button below to add your details to the wait list. We will then contact you if we are able to obtain extra tickets for you to book.
URL:https://takemeouttrips.co.uk/event/snow-white-panto-261213-bm-sw/
LOCATION:Cliffs Pavilion\, Station Road\, Southend\, Essex\, SS0 7RA\, United Kingdom
CATEGORIES:Bespoke Route,Day Trip,Dengie Route,Maldon Route,Pantomime,Variety
ATTACH;FMTTYPE=image/png:https://takemeouttrips.co.uk/wp-content/uploads/2026/01/snow-white-panto1-web-image500f.png
END:VEVENT
BEGIN:VEVENT
DTSTART;TZID=Europe/London:20270110T130000
DTEND;TZID=Europe/London:20270110T153000
DTSTAMP:20260420T053214
CREATED:20260330T115432Z
LAST-MODIFIED:20260330T150357Z
UID:10000332-1799586000-1799595000@takemeouttrips.co.uk
SUMMARY:London Palladium Panto: Cinderella - Dengie Route + Maldon Town [270110-BM-CP]
DESCRIPTION:This Christmas\, you shall go to the most magical ball in the land as Cinderella arrives at The London Palladium. Comedy legends Dawn French and Jennifer Saunders reunite on the West End stage for the first time in 17 years as the wickedly hilarious Ugly Sisters\, bringing their unmistakable humour to this much loved story. They are joined by incomparable panto favourite Julian Clary\, wand in hand\, as the glittering Fairy Godfather. \nThe dazzling rags to riches fairytale returns with a spectacular new production\, packed full of star casting\, showstopping moments and plenty of festive cheer. Expect spectacular costumes\, dazzling special effects\, riotous laughter and all the magic that has made The London Palladium the true home of pantomime over the past decade. \nPalladium panto favourites Paul Zerdin\, Nigel Havers and Rob Madge return by popular demand\, alongside acclaimed TV and theatre star Dex Lee as Prince Charming. Musical theatre performer Hope Dawe steps into the iconic role of Cinderella. \nDon’t miss your chance to experience this unmissable festive tradition at The London Palladium. \n			\n				\n				\n				\n				\n				Seat location: Stalls Rows M N O P & Q and Royal Circle Rows I & J.These seats are £100 each when booked individually direct with the box office. \n			\n				\n				\n				\n				\n				Under 4s not permitted. Please note that booster seats are not allowed in the Royal Circle.Parental discretion is advised due to innuendo. \n			\n				\n				\n				\n				\n				Estimated pick up timetable below. The final timetable will be notified by email during the week before the trip.08:05 – Maldon 1: “St Peter’s Hospital bus stop (Spital Road CM9 6EB)08:10 – Maldon 2: “Lambourne Grove” bus stop (Fambridge Road CM9 6BJ)08:15 – Maldon 3: “Morrisons (entrance)” bus stop (Wycke Hill Business Park\, CM9 6GG)08:30 – Latchingdon: “School” bus stop (The Street CM3 6JS)08:35 – Mayland: “The Drive” bus stop (Steeple Road CM3 6BB)08:45 – Southminster: “High Street” bus stop (High Street CM0 7AA)08:50 – Burnham 3: “Burnham Cemetery” bus stop (Southminster Road CM0 8RT)08:50 – Burnham 2: “Marsh Road” bus stop (Church Road CM0 8DA)08:55 – Burnham 1: “Endeavour Way” bus stop (Maldon Road CM0 8NR)09:00 – Althorne: “Fords Corner” bus stop (Burnham Road CM3 6DP)09:10 – North Fambridge: The Ferry Boat Inn (Ferry Road CM3 6LR)09:25 – South Woodham Ferrers 1: “Asda Store” bus stop (Merchant Street CM3 5BF)09:30 – South Woodham Ferrers 2: “Medical Centre” bus stop (Burnham Road CM3 5QP) \nArrival: Between 11:00-11:30 traffic permittingDeparture: Between 16:00-16:30. \n			\n				\n				\n				\n				\n				If you would like tickets for this event but it is currently showing that tickets are not yet on sale\, please use the “NOTIFY ME” button below to add your details to the pre-sale registration list to be notified by email when booking opens. \nIf you would like tickets for this event but it is currently showing as SOLD OUT please let us know by using the “NOTIFY ME” button below to add your details to the wait list. We will then contact you if we are able to obtain extra tickets for you to book.
URL:https://takemeouttrips.co.uk/event/cinderella-270110-bm-cp/
LOCATION:London Palladium\, 8 Argyll Street\, London\, W1F 7TF\, United Kingdom
CATEGORIES:Bespoke Route,Dengie Route,Maldon Route,Pantomime,Variety
ATTACH;FMTTYPE=image/png:https://takemeouttrips.co.uk/wp-content/uploads/2026/03/cinderella-palladium-image1600-900f.png
END:VEVENT
BEGIN:VEVENT
DTSTART;TZID=Europe/London:20270616T140000
DTEND;TZID=Europe/London:20270616T163000
DTSTAMP:20260420T053214
CREATED:20260325T142122Z
LAST-MODIFIED:20260329T180722Z
UID:10000320-1813154400-1813163400@takemeouttrips.co.uk
SUMMARY:Billy Elliot - Dengie Route + Maldon Town [270616-BM-BE]
DESCRIPTION:View Trailer\n			\n				\n				\n				\n				\n				Set in a northern town during the miners’ strike of 1984/5\, the show follows Billy’s journey from the boxing ring to the ballet class\, where he discovers a passion for dance that will change his life forever. As Billy dares to dream\, his courage unites his family\, inspires his community\, and proves the transformative power of art. Brought to life by the award-winning creative team behind the film\, with iconic music by Elton John\, Billy Elliot is an extraordinary theatrical experience that has captivated audiences around the world. \nTen years after it last played to audiences in its original home of London and the UK\, this landmark production returns at last. This is the musical that took the nation by surprise and went on to conquer the world. Praised as ‘Breathtaking. A dazzling 40-carat gem of a show’ (Daily Mail)\, ‘Dazzling. A triumph’ (Independent on Sunday) and ‘Pure magic’ (Sunday Express)\, Billy Elliot the Musical returns as exhilarating\, hilarious and unforgettable as ever\, a defining British production finally coming home.\n			\n				\n				\n				\n				\n				Seat location: Dress Circle Rows C D E F G H J & K \n			\n				\n				\n				\n				\n				Age recommendations and production content warnings are to be confirmed.\n			\n				\n				\n				\n				\n				Estimated pick up timetable below. The final timetable will be notified by email during the week before the trip.09:05 – Maldon 1: “St Peter’s Hospital bus stop (Spital Road CM9 6EB)09:10 – Maldon 2: “Lambourne Grove” bus stop (Fambridge Road CM9 6BJ)09:15 – Maldon 3: “Morrisons (entrance)” bus stop (Wycke Hill Business Park\, CM9 6GG)09:30 – Latchingdon: “School” bus stop (The Street CM3 6JS)09:35 – Mayland: “The Drive” bus stop (Steeple Road CM3 6BB)09:45 – Southminster: “High Street” bus stop (High Street CM0 7AA)09:50 – Burnham 3: “Burnham Cemetery” bus stop (Southminster Road CM0 8RT)09:50 – Burnham 2: “Marsh Road” bus stop (Church Road CM0 8DA)09:55 – Burnham 1: “Endeavour Way” bus stop (Maldon Road CM0 8NR)10:00 – Althorne: “Fords Corner” bus stop (Burnham Road CM3 6DP)10:10 – North Fambridge: The Ferry Boat Inn (Ferry Road CM3 6LR)10:25 – South Woodham Ferrers 1: “Asda Store” bus stop (Merchant Street CM3 5BF)10:30 – South Woodham Ferrers 2: “Medical Centre” bus stop (Burnham Road CM3 5QP) \nArrival: Between 12:00-12:30 traffic permittingDeparture: Between 17:00-17:30. \n			\n				\n				\n				\n				\n				If you would like tickets for this event but it is currently showing that tickets are not yet on sale\, please use the “NOTIFY ME” button below to add your details to the pre-sale registration list to be notified by email when booking opens. \nIf you would like tickets for this event but it is currently showing as SOLD OUT please let us know by using the “NOTIFY ME” button below to add your details to the wait list. We will then contact you if we are able to obtain extra tickets for you to book.
URL:https://takemeouttrips.co.uk/event/billy-elliot-270616-bm-be/
LOCATION:Adelphi Theatre\, 410 Strand\, London\, WC2R 0NS\, United Kingdom
CATEGORIES:Dengie Route,Musical
ATTACH;FMTTYPE=image/png:https://takemeouttrips.co.uk/wp-content/uploads/2026/02/billy-elliot-image1600-900f.png
END:VEVENT
END:VCALENDAR