BEGIN:VCALENDAR
VERSION:2.0
PRODID:-//Take Me Out Trips - ECPv6.15.20//NONSGML v1.0//EN
CALSCALE:GREGORIAN
METHOD:PUBLISH
X-WR-CALNAME:Take Me Out Trips
X-ORIGINAL-URL:https://takemeouttrips.co.uk
X-WR-CALDESC:Events for Take Me Out Trips
REFRESH-INTERVAL;VALUE=DURATION:PT1H
X-Robots-Tag:noindex
X-PUBLISHED-TTL:PT1H
BEGIN:VTIMEZONE
TZID:Europe/London
BEGIN:DAYLIGHT
TZOFFSETFROM:+0000
TZOFFSETTO:+0100
TZNAME:BST
DTSTART:20250330T010000
END:DAYLIGHT
BEGIN:STANDARD
TZOFFSETFROM:+0100
TZOFFSETTO:+0000
TZNAME:GMT
DTSTART:20251026T010000
END:STANDARD
BEGIN:DAYLIGHT
TZOFFSETFROM:+0000
TZOFFSETTO:+0100
TZNAME:BST
DTSTART:20260329T010000
END:DAYLIGHT
BEGIN:STANDARD
TZOFFSETFROM:+0100
TZOFFSETTO:+0000
TZNAME:GMT
DTSTART:20261025T010000
END:STANDARD
BEGIN:DAYLIGHT
TZOFFSETFROM:+0000
TZOFFSETTO:+0100
TZNAME:BST
DTSTART:20270328T010000
END:DAYLIGHT
BEGIN:STANDARD
TZOFFSETFROM:+0100
TZOFFSETTO:+0000
TZNAME:GMT
DTSTART:20271031T010000
END:STANDARD
END:VTIMEZONE
BEGIN:VEVENT
DTSTART;TZID=Europe/London:20261201T120000
DTEND;TZID=Europe/London:20261201T183000
DTSTAMP:20260423T022709
CREATED:20260410T084806Z
LAST-MODIFIED:20260410T092908Z
UID:10000342-1796126400-1796149800@takemeouttrips.co.uk
SUMMARY:Festive London: Christmas Lights & Shopping - Dengie Route - [261201-DD-FL]
DESCRIPTION:Take in the festive atmosphere of London on this trip. You will have time to sightsee\, shop ‘til you drop and see the city‘s beautiful Christmas lights in all the best shops\, streets and squares for finding twinkling Christmas trees and sparkling lights. Take the kids for only £14.50 each (3-15yrs) and under 3s go FREE! (Please note: you must add Infant tickets to your basket/purchase to reserve their coach place even though they are free). \nYou will be dropped off near Trafalgar Square around midday to eat\, shop and view the Christmas lights at your leisure – here’s just some of the things you could do… \nChristmas markets: We all love a Christmas market and their increase in popularity over recent years has seen London up its game\, you could try these (minutes given is the walking time from coach drop off):\n\nTrafalgar Square – 2 mins\nLeicester Square – 6 mins\nCovent Garden – 8 mins\nWinter Wonderland Hyde Park (if you don’t mind the walk!) – 40 mins\n\nOther Christmas shopping: The shops and boutiques in all the favourite London shopping hotspots are within easy reach of our coach drop off location in Duncannon Street: \n\nPiccadilly Circus – 10 mins\nSeven Dials – 10 mins\nRegent Street – 10 mins\nCarnaby Street – 18 mins\nBond Street – 20 mins\nOxford Street – 20 mins\n\nChristmas lights: TMOT has put together a list of all our favourite places to visit to see the most magical displays\, with a suggested walking route. We will provide this in your trip pack that will be given to you on the coach. \nDeparting London at 18:30. \n			\n				\n				\n				\n				\n				TMOT Note: This is not a coach tour of London. However\, TMOT will provide a suggested walking route map for you to follow if you wish. \n			\n				\n				\n				\n				\n				Estimated pick up timetable below. The final timetable will be notified by email in the week before the trip. \n10:10 – Latchingdon: “School” bus stop (The Street CM3 6JS)10:15 – Mayland: “The Drive” bus stop (Steeple Road CM3 6BB)10:25 – Southminster: “High Street” bus stop (High Street CM0 7AA)10:30 – Burnham 3: “Burnham Cemetery” bus stop (Southminster Road CM0 8RT)10:30 – Burnham 2: “Marsh Road” bus stop (Church Road CM0 8DA)10:35 – Burnham 1: “Endeavour Way” bus stop (Maldon Road CM0 8NR)10:45 – Althorne: “Fords Corner” bus stop (Burnham Road CM3 6DP)10:55 – North Fambridge: The Ferry Boat Inn (Ferry Road CM3 6LR)11:05 – South Woodham Ferrers 1: “Asda Store” bus stop (Merchant Street CM3 5BF)11:10 – South Woodham Ferrers 2: “Medical Centre” bus stop (Burnham Road CM3 5QP) \nWe expect to arrive at approximately 12:30-13:00Departure approximately 18:30 \n			\n				\n				\n				\n				\n				If you would like tickets for this event but it is currently showing that tickets are not yet on sale\, please use the “NOTIFY ME” button below to add your details to the pre-sale registration list to be notified by email when booking opens. \nIf you would like tickets for this event but it is currently showing as SOLD OUT please let us know by using the “NOTIFY ME” button below to add your details to the wait list. We will then contact you if we are able to obtain extra tickets for you to book.
URL:https://takemeouttrips.co.uk/event/festive-london-261201-dd-fl/
LOCATION:Trafalgar Square\, Trafalgar Square\, London\, WC2E 5DS\, United Kingdom
CATEGORIES:Day Trip,Dengie Route
ATTACH;FMTTYPE=image/png:https://takemeouttrips.co.uk/wp-content/uploads/2026/04/festive-london-image1600-900f-1.png
END:VEVENT
BEGIN:VEVENT
DTSTART;VALUE=DATE:20261207
DTEND;VALUE=DATE:20261210
DTSTAMP:20260423T022709
CREATED:20250517T144652Z
LAST-MODIFIED:20260405T092750Z
UID:10000167-1796601600-1796860799@takemeouttrips.co.uk
SUMMARY:Dutch Festive Cruise - 2 Nights
DESCRIPTION:WHAT: 2 night Christmas Festive Cruise – Adults OnlyWHERE: Ambassador cruise ship Ambition sailing from Tilbury to Ijmuiden\, Netherlands.WHEN: 7-9 December 2026PRICING: Prices in the “Tickets” section below are PER CABIN\, not per person. All cabins that are not marked as solo occupancy are available as doubles or twins. You will be asked to confirm your preference at a later date. \n\nPrices include:– Executive class coach travel to and from Tilbury.– Cabin accommodation for 2 nights.– Full board catering of breakfast\, lunch and a 5-course evening meal.– Private coach travel from Ijmuiden harbour to Amsterdam return on day 2– Use of Ambition’s gym\, swimming pool and hot tubs.– Entertainment\, including evening shows\, plays\, cabarets\, live music.– Access to the spa (treatments are charged as extra).– Range of fitness\, dance and wellness classes.– Porterage of luggage from the port to your cabin.– Port taxes\, fees & charges– For Suites only: Please see additional features included in the price for your suite booking here: Suite Benefits | Ambience\, Ambition & Renaissance | Ambassador Cruise Line \nPrices exclude:– Drinks: These are pay-as-you-go. Drink packages can also be purchased onboard.– Gratuities: These are charged to your onboard account at a rate of £7pp per night.– Onboard Wifi: There are additional charges between £10-£17 per day for onboard wifi depending on the package selected. \n \n			\n				\n					\n					\n					\n				\n				\n					\n					\n					\n				\n				\n					\n					\n					\n				\n				\n					\n					\n					\n				\n				\n					\n					\n					\n				\n				\n					\n					\n					\n				\n				\n					\n					\n					\n				\n				\n					\n					\n					\n				\n				\n				\n				\n				\n				\n				Coach route: Pickups available from Great Totham\, Heybridge\, Maldon\, Latchingdon\, Southminster\, Burnham\, North Fambridge and South Woodham Ferrers. \nTimetable: To be confirmed. We will be allocated an embarkation time between 10:00 and 14:00 and this will dictate the final pickup timetable\, as an estimate pickups could be anytime between 08:00 and 12:00. \n			\n				\n				\n				\n				\n				IMPORTANT PLEASE READ \n\nTicket prices below are PER CABIN\, not per person. Doubles/Twins are priced for two people so only add 1 item to your cart. 1 “Ticket” = 1 cabin.\n50% deposit is payable now and the balance is due by 1 August 2026.\nYou must have a valid passport and travel insurance in order to travel. This information will be requested from you later in the booking process.\nIf you would like to book a particular cabin type that is sold out please get in touch as we may be able to amend our allocation with the cruise line\, dependent on their overall cabin availability.
URL:https://takemeouttrips.co.uk/event/dutch-festive-cruise-2-nights/
CATEGORIES:Bespoke Route,Boat Trip,Cabaret,Cruise,Dengie Route,Maldon Route,Short Break,Variety
ATTACH;FMTTYPE=image/png:https://takemeouttrips.co.uk/wp-content/uploads/2025/05/ambassador-dutch-festive-cruise-2026-web-image500f.png
END:VEVENT
END:VCALENDAR