BEGIN:VCALENDAR
VERSION:2.0
PRODID:-//Take Me Out Trips - ECPv6.15.20//NONSGML v1.0//EN
CALSCALE:GREGORIAN
METHOD:PUBLISH
X-WR-CALNAME:Take Me Out Trips
X-ORIGINAL-URL:https://takemeouttrips.co.uk
X-WR-CALDESC:Events for Take Me Out Trips
REFRESH-INTERVAL;VALUE=DURATION:PT1H
X-Robots-Tag:noindex
X-PUBLISHED-TTL:PT1H
BEGIN:VTIMEZONE
TZID:Europe/London
BEGIN:DAYLIGHT
TZOFFSETFROM:+0000
TZOFFSETTO:+0100
TZNAME:BST
DTSTART:20250330T010000
END:DAYLIGHT
BEGIN:STANDARD
TZOFFSETFROM:+0100
TZOFFSETTO:+0000
TZNAME:GMT
DTSTART:20251026T010000
END:STANDARD
BEGIN:DAYLIGHT
TZOFFSETFROM:+0000
TZOFFSETTO:+0100
TZNAME:BST
DTSTART:20260329T010000
END:DAYLIGHT
BEGIN:STANDARD
TZOFFSETFROM:+0100
TZOFFSETTO:+0000
TZNAME:GMT
DTSTART:20261025T010000
END:STANDARD
BEGIN:DAYLIGHT
TZOFFSETFROM:+0000
TZOFFSETTO:+0100
TZNAME:BST
DTSTART:20270328T010000
END:DAYLIGHT
BEGIN:STANDARD
TZOFFSETFROM:+0100
TZOFFSETTO:+0000
TZNAME:GMT
DTSTART:20271031T010000
END:STANDARD
END:VTIMEZONE
BEGIN:VEVENT
DTSTART;TZID=Europe/London:20260706T180000
DTEND;TZID=Europe/London:20260706T223000
DTSTAMP:20260422T115439
CREATED:20260204T122529Z
LAST-MODIFIED:20260206T010158Z
UID:10000291-1783360800-1783377000@takemeouttrips.co.uk
SUMMARY:Coach Only: Central London - Dengie Route + Maldon Town
DESCRIPTION:We will pick you up in your local town or village\, take you on a hassle free\, stress free coach ride into the heart of London\, dropping you off near Oxford Street/Regent Street. You will have 4-5 hours free time to do as you please. Whatever your plans\, let us get you there and back safely and conveniently by booking a coach only seat. \nYou will arrive at approximately 17:30-18:00 and leave at approximately 22:30. \n			\n				\n				\n				\n				\n				Estimated pick up timetable below. The final timetable will be notified by email during the week before the trip.14:40 – Maldon 1: “St Peter’s Hospital bus stop (Spital Road CM9 6EB)14:45 – Maldon 2: “Lambourne Grove” bus stop (Fambridge Road CM9 6BJ)15:00 – Latchingdon: “School” bus stop (The Street CM3 6JS)15:05 – Mayland: “The Drive” bus stop (Steeple Road CM3 6BB)15:15 – Southminster: “High Street” bus stop (High Street CM0 7AA)15:20 – Burnham 3: “Burnham Cemetery” bus stop (Southminster Road CM0 8RT)15:20 – Burnham 2: “Marsh Road” bus stop (Church Road CM0 8DA)15:25 – Burnham 1: “Endeavour Way” bus stop (Maldon Road CM0 8NR)15:30 – Althorne: “Fords Corner” bus stop (Burnham Road CM3 6DP)15:40 – North Fambridge: The Ferry Boat Inn (Ferry Road CM3 6LR)15:55 – South Woodham Ferrers 1: “Asda Store” bus stop (Merchant Street CM3 5BF)16:00 – South Woodham Ferrers 2: “Medical Centre” bus stop (Burnham Road CM3 5QP) \nWe expect to arrive in London between 17:30-18:00 and leave approximately 22:30
URL:https://takemeouttrips.co.uk/event/coach-only-260706-be-co/
LOCATION:Regent Street\, Regent Street\, London\, W1B\, United Kingdom
CATEGORIES:Bespoke Route,Coach Only,Dengie Route,Maldon Route
ATTACH;FMTTYPE=image/png:https://takemeouttrips.co.uk/wp-content/uploads/2024/12/coach-only-image500f.png
END:VEVENT
END:VCALENDAR