BEGIN:VCALENDAR
VERSION:2.0
PRODID:-//Take Me Out Trips - ECPv6.15.18//NONSGML v1.0//EN
CALSCALE:GREGORIAN
METHOD:PUBLISH
X-ORIGINAL-URL:https://takemeouttrips.co.uk
X-WR-CALDESC:Events for Take Me Out Trips
REFRESH-INTERVAL;VALUE=DURATION:PT1H
X-Robots-Tag:noindex
X-PUBLISHED-TTL:PT1H
BEGIN:VTIMEZONE
TZID:Europe/London
BEGIN:DAYLIGHT
TZOFFSETFROM:+0000
TZOFFSETTO:+0100
TZNAME:BST
DTSTART:20250330T010000
END:DAYLIGHT
BEGIN:STANDARD
TZOFFSETFROM:+0100
TZOFFSETTO:+0000
TZNAME:GMT
DTSTART:20251026T010000
END:STANDARD
BEGIN:DAYLIGHT
TZOFFSETFROM:+0000
TZOFFSETTO:+0100
TZNAME:BST
DTSTART:20260329T010000
END:DAYLIGHT
BEGIN:STANDARD
TZOFFSETFROM:+0100
TZOFFSETTO:+0000
TZNAME:GMT
DTSTART:20261025T010000
END:STANDARD
BEGIN:DAYLIGHT
TZOFFSETFROM:+0000
TZOFFSETTO:+0100
TZNAME:BST
DTSTART:20270328T010000
END:DAYLIGHT
BEGIN:STANDARD
TZOFFSETFROM:+0100
TZOFFSETTO:+0000
TZNAME:GMT
DTSTART:20271031T010000
END:STANDARD
END:VTIMEZONE
BEGIN:VEVENT
DTSTART;TZID=Europe/London:20260429T180000
DTEND;TZID=Europe/London:20260429T223000
DTSTAMP:20260419T230551
CREATED:20260209T004128Z
LAST-MODIFIED:20260407T061340Z
UID:10000300-1777485600-1777501800@takemeouttrips.co.uk
SUMMARY:Coach Only - Dengie Route
DESCRIPTION:Want some free time out in London to eat\, drink or sight see? Maybe you want to grab some bargains in the late night shopping\, or you fancy booking your own tickets for an exhibition or a stand up comedy night and don’t want the hassle of public transport or driving yourself… \nWhatever your plans for the evening\, let us get you there and back safely and conveniently by booking a coach only seat. \nYou will arrive at approximately 17:30-18:00 and leave at approximately 22:30. The drop off point for this trip is near Covent Garden and you’re free to organise your night your way. \n			\n				\n				\n				\n				\n				Estimated pick up timetable below: The final timetable will be notified by email during the week before the trip.\n15:00 – Latchingdon: “School” bus stop (The Street CM3 6JS)\n15:05 – Mayland: “The Drive” bus stop (Steeple Road CM3 6BB)\n15:15 – Southminster: “High Street” bus stop (High Street CM0 7AA)\n15:20 – Burnham 3: “Burnham Cemetery” bus stop (Southminster Road CM0 8RT)\n15:20 – Burnham 2: “Marsh Road” bus stop (Church Road CM0 8DA)\n15:25 – Burnham 1: “Endeavour Way” bus stop (Maldon Road CM0 8NR)\n15:30 – Althorne: “Fords Corner” bus stop (Burnham Road CM3 6DP)\n15:40 – North Fambridge: The Ferry Boat Inn (Ferry Road CM3 6LR)\n15:55 – South Woodham Ferrers 1: “Asda Store” bus stop (Merchant Street CM3 5BF)\n16:00 – South Woodham Ferrers 2: “Medical Centre” bus stop (Burnham Road CM3 5QP) \nWe expect to arrive in London between 17:30-18:00\nDepart approximately 22:30
URL:https://takemeouttrips.co.uk/event/coach-only-260429-de-co/
LOCATION:Covent Garden\, London\, WC2E 8RF\, United Kingdom
CATEGORIES:Coach Only,Dengie Route
ATTACH;FMTTYPE=image/png:https://takemeouttrips.co.uk/wp-content/uploads/2024/12/coach-only-image500f.png
END:VEVENT
END:VCALENDAR