BEGIN:VCALENDAR
VERSION:2.0
PRODID:-//Take Me Out Trips - ECPv6.15.20//NONSGML v1.0//EN
CALSCALE:GREGORIAN
METHOD:PUBLISH
X-WR-CALNAME:Take Me Out Trips
X-ORIGINAL-URL:https://takemeouttrips.co.uk
X-WR-CALDESC:Events for Take Me Out Trips
REFRESH-INTERVAL;VALUE=DURATION:PT1H
X-Robots-Tag:noindex
X-PUBLISHED-TTL:PT1H
BEGIN:VTIMEZONE
TZID:Europe/London
BEGIN:DAYLIGHT
TZOFFSETFROM:+0000
TZOFFSETTO:+0100
TZNAME:BST
DTSTART:20250330T010000
END:DAYLIGHT
BEGIN:STANDARD
TZOFFSETFROM:+0100
TZOFFSETTO:+0000
TZNAME:GMT
DTSTART:20251026T010000
END:STANDARD
BEGIN:DAYLIGHT
TZOFFSETFROM:+0000
TZOFFSETTO:+0100
TZNAME:BST
DTSTART:20260329T010000
END:DAYLIGHT
BEGIN:STANDARD
TZOFFSETFROM:+0100
TZOFFSETTO:+0000
TZNAME:GMT
DTSTART:20261025T010000
END:STANDARD
BEGIN:DAYLIGHT
TZOFFSETFROM:+0000
TZOFFSETTO:+0100
TZNAME:BST
DTSTART:20270328T010000
END:DAYLIGHT
BEGIN:STANDARD
TZOFFSETFROM:+0100
TZOFFSETTO:+0000
TZNAME:GMT
DTSTART:20271031T010000
END:STANDARD
END:VTIMEZONE
BEGIN:VEVENT
DTSTART;TZID=Europe/London:20260624T180000
DTEND;TZID=Europe/London:20260624T220000
DTSTAMP:20260423T104854
CREATED:20260417T085323Z
LAST-MODIFIED:20260417T091014Z
UID:10000349-1782324000-1782338400@takemeouttrips.co.uk
SUMMARY:Coach Only - Maldon Route
DESCRIPTION:Want some free time out in London to eat\, drink or sight see? Maybe you want to grab some bargains in the late night shopping\, or you fancy booking your own tickets for an exhibition or a stand up comedy night and don’t want the hassle of public transport or driving yourself… \nWhatever your plans for the evening\, let us get you there and back safely and conveniently by booking a coach only seat. \nYou will arrive at approximately 17:30-18:00 and leave at approximately 22:15. The drop off point for this trip is near the London Palladium (Oxford Street / Regent Street) and you’re free to organise your night your way. \n			\n				\n				\n				\n				\n				The final timetable will be notified by email during the week before the trip. Estimated pick up timetable:\n15:00 – Great Totham North: Mill Road (nr Eaton Way junction CM9 8DH)\n15:05 – Wickham Bishops: The Street (outside Olio’s restaurant CM8 3NN)\n15:10 – Great Totham South: “Barn Church” bus stop (Prince of Wales Road CM9 8PU)\n15:15 – Broad Street Green: “Scylla Close” bus stop (Broad Street Green Road CM9 8PD)\n15:20 – Heybridge: “Oak Road” bus stop (Colchester Road CM9 4AN)\n15:35 – Maldon 1: “St Peter’s Hospital bus stop (Spital Road CM9 6EB)\n15:40 – Maldon 2: “Lambourne Grove” bus stop (Fambridge Road CM9 6BJ)\n15:50 – Maldon 3: “Morrisons (entrance)” bus stop (Wycke Hill Business Park\, CM9 6GG)\n16:00 – Danbury: “Eves Corner” bus stop (Main Road CM3 4NQ)\n16:05 – Bicknacre: “Brewers Arms” bus stop (Main Road CM3 4HD)\n16:10 – South Woodham Ferrers 2: “Medical Centre” bus stop (Burnham Road CM3 5QP)\n16:15 – South Woodham Ferrers 1: “Asda Store” bus stop (Merchant Street CM3 5BF) \nWe expect to arrive in London between 17:30-18:00\nDepart approximately 22:15
URL:https://takemeouttrips.co.uk/event/coach-only-maldon-route/
LOCATION:London Palladium\, 8 Argyll Street\, London\, W1F 7TF\, United Kingdom
CATEGORIES:Coach Only,Maldon Route
ATTACH;FMTTYPE=image/png:https://takemeouttrips.co.uk/wp-content/uploads/2026/04/coach-only-image1600-900f.png
END:VEVENT
END:VCALENDAR